BEGIN:VCALENDAR
VERSION:2.0
PRODID:-//ChamberMaster//Event Calendar 2.0//EN
METHOD:PUBLISH
X-PUBLISHED-TTL:P1H
REFRESH-INTERVAL:P1H
CALSCALE:GREGORIAN
BEGIN:VTIMEZONE
TZID:America/New_York
BEGIN:DAYLIGHT
RRULE:FREQ=YEARLY;BYMONTH=3;BYDAY=2SU
DTSTART:20070101T000000
TZOFFSETFROM:-0500
TZOFFSETTO:-0400
TZNAME:Eastern Daylight Time
END:DAYLIGHT
BEGIN:STANDARD
RRULE:FREQ=YEARLY;BYMONTH=11;BYDAY=1SU
DTSTART:20070101T000000
TZOFFSETFROM:-0400
TZOFFSETTO:-0500
TZNAME:Eastern Standard Time
END:STANDARD
END:VTIMEZONE
BEGIN:VEVENT
DTSTART;TZID=America/New_York:20260827T173000
DTEND;TZID=America/New_York:20260827T200000
X-MICROSOFT-CDO-ALLDAYEVENT:FALSE
SUMMARY:Appliance Education Dinner with Miele - Powered by Ferguson
DESCRIPTION:
X-ALT-DESC;FMTTYPE=text/html:
LOCATION:575 Woodruff Road Greenville SC 29607
UID:e.2509.1443183
SEQUENCE:3
DTSTAMP:20260420T083140Z
URL:https://members.hbaofgreenville.com/events/Details/appliance-education-dinner-with-miele-powered-by-ferguson-1709393?sourceTypeId=Hub
END:VEVENT
END:VCALENDAR
