BEGIN:VCALENDAR
VERSION:2.0
PRODID:-//ChamberMaster//Event Calendar 2.0//EN
METHOD:PUBLISH
X-PUBLISHED-TTL:P1H
REFRESH-INTERVAL:P1H
CALSCALE:GREGORIAN
BEGIN:VTIMEZONE
TZID:America/New_York
BEGIN:DAYLIGHT
RRULE:FREQ=YEARLY;BYMONTH=3;BYDAY=2SU
DTSTART:20070101T000000
TZOFFSETFROM:-0500
TZOFFSETTO:-0400
TZNAME:Eastern Daylight Time
END:DAYLIGHT
BEGIN:STANDARD
RRULE:FREQ=YEARLY;BYMONTH=11;BYDAY=1SU
DTSTART:20070101T000000
TZOFFSETFROM:-0400
TZOFFSETTO:-0500
TZNAME:Eastern Standard Time
END:STANDARD
END:VTIMEZONE
BEGIN:VEVENT
DTSTART;TZID=America/New_York:20260505T110000
DTEND;TZID=America/New_York:20260505T131500
X-MICROSOFT-CDO-ALLDAYEVENT:FALSE
SUMMARY:Business Owners Only Series: Session Three: The One Agent Army: How to Run Your Contracting Business with One Custom AI
DESCRIPTION:
X-ALT-DESC;FMTTYPE=text/html:
LOCATION:5 Creekside Park Court Suite A Greenville SC 29615
UID:e.2509.1401247
SEQUENCE:3
DTSTAMP:20260422T082114Z
URL:https://members.hbaofgreenville.com/events/Details/business-owners-only-series-session-three-the-one-agent-army-how-to-run-your-contracting-business-with-one-custom-ai-1655775?sourceTypeId=Hub
END:VEVENT
END:VCALENDAR
