BEGIN:VCALENDAR
VERSION:2.0
PRODID:-//ChamberMaster//Event Calendar 2.0//EN
METHOD:PUBLISH
X-PUBLISHED-TTL:P1H
REFRESH-INTERVAL:P1H
CALSCALE:GREGORIAN
BEGIN:VTIMEZONE
TZID:America/New_York
BEGIN:DAYLIGHT
RRULE:FREQ=YEARLY;BYMONTH=3;BYDAY=2SU
DTSTART:20070101T000000
TZOFFSETFROM:-0500
TZOFFSETTO:-0400
TZNAME:Eastern Daylight Time
END:DAYLIGHT
BEGIN:STANDARD
RRULE:FREQ=YEARLY;BYMONTH=11;BYDAY=1SU
DTSTART:20070101T000000
TZOFFSETFROM:-0400
TZOFFSETTO:-0500
TZNAME:Eastern Standard Time
END:STANDARD
END:VTIMEZONE
BEGIN:VEVENT
DTSTART;TZID=America/New_York:20260506T113000
DTEND;TZID=America/New_York:20260506T131500
X-MICROSOFT-CDO-ALLDAYEVENT:FALSE
SUMMARY:Powering Your Projects: Duke Energy Portal Lunch & Learn
DESCRIPTION:Curious how to better navigate the Duke Energy Builder Portal or want to make sure you're using it to its full potential?Join us for a hands-on Lunch & Learn featuring a live walkthrough of the newly redesigned Builder Portal. This interactive session goes beyond the basics\, giving you real-time insights into how to simplify your workflow\, track progress more efficiently\, and avoid common roadblocks.You'll also have the opportunity to connect directly with Duke Energy's Delivery and Outdoor Lighting teams ask questions\, get clarity on processes\, and walk away with a better understanding of how to keep your projects moving forward.Topic's Covered:Profile setup and best practicesApplication submission made simpleTracking and managing work ordersKey project details you shouldn't missDeclaring site readiness with confidenceCome hungry\, bring your questions\, and leave with tools you can use immediately.
X-ALT-DESC;FMTTYPE=text/html:<!DOCTYPE html><html><head><title></title></head><body aria-disabled="false"><p data-end="1278" data-start="1157">Curious how to better navigate the Duke Energy Builder Portal&mdash\;or want to make sure you&rsquo\;re using it to its full potential?</p><p data-end="1562" data-start="1280">Join us for a hands-on Lunch &amp\; Learn featuring a live walkthrough of the newly redesigned Builder Portal. This interactive session goes beyond the basics\, giving you real-time insights into how to simplify your workflow\, track progress more efficiently\, and avoid common roadblocks.</p><p data-end="1799" data-start="1564">You&rsquo\;ll also have the opportunity to connect directly with Duke Energy&rsquo\;s Delivery and Outdoor Lighting teams&mdash\;ask questions\, get clarity on processes\, and walk away with a better understanding of how to keep your projects moving forward.</p><p data-end="1799" data-start="1564">Topic&#39\;s Covered:</p><ul data-end="2015" data-start="1814" fr-original-style="" style="list-style-position: inside\;"><li data-end="1850" data-section-id="1nbpmnb" data-start="1814">Profile setup and best practices</li><li data-end="1889" data-section-id="yh5xax" data-start="1851">Application submission made simple</li><li data-end="1927" data-section-id="1rzf590" data-start="1890">Tracking and managing work orders</li><li data-end="1970" data-section-id="8kdz51" data-start="1928">Key project details you shouldn&rsquo\;t miss</li><li data-end="2015" data-section-id="1c9h5fs" data-start="1971">Declaring site readiness with confidence</li></ul><p data-end="2097" data-start="2017">Come hungry\, bring your questions\, and leave with tools you can use immediately.</p></body></html>
LOCATION:5 Creekside Park Court Suite A Greenville SC 29615
UID:e.2509.1437021
SEQUENCE:3
DTSTAMP:20260420T083740Z
URL:https://members.hbaofgreenville.com/events/Details/powering-your-projects-duke-energy-portal-lunch-learn-1701023?sourceTypeId=Hub
END:VEVENT
END:VCALENDAR
